BEGIN:VCALENDAR
VERSION:2.0
PRODID:-//Tukios.com/
BEGIN:VEVENT
UID:3c035fed-8c3d-4d5e-acdf-e131a96777a4@www.newcomerdayton.com
DTSTAMP:20260422T015327Z
DTSTART:20260429T170000Z
DTEND:20260429T180000Z
SUMMARY:Funeral Service
DESCRIPTION:
URL:https://www.newcomerdayton.com/obituaries/william-hollon
LOCATION: 3380 Dayton Xenia Rd  Beavercreek OH 45432
GEO:39.7305345;-84.0604885
END:VEVENT
END:VCALENDAR