BEGIN:VCALENDAR
VERSION:2.0
PRODID:-//Tukios.com/
BEGIN:VEVENT
UID:04c93105-44a5-4f63-ac29-fe79734c42bd@www.newcomerdayton.com
DTSTAMP:20260423T011141Z
DTSTART:20260428T143000Z
DTEND:20260428T153000Z
SUMMARY:Funeral Service
DESCRIPTION:
URL:https://www.newcomerdayton.com/obituaries/virginia-dell-sarchet
LOCATION: 4104 Needmore Rd  Dayton OH 45424
GEO:39.8210386;-84.1440675
END:VEVENT
END:VCALENDAR