BEGIN:VCALENDAR
VERSION:2.0
PRODID:-//Tukios.com/
BEGIN:VEVENT
UID:2461645b-5141-424f-957a-3061c71d83fe@www.newcomerdayton.com
DTSTAMP:20260423T011612Z
DTSTART:20260428T133000Z
DTEND:20260428T143000Z
SUMMARY:Visitation
DESCRIPTION:
URL:https://www.newcomerdayton.com/obituaries/virginia-dell-sarchet
LOCATION: 4104 Needmore Rd  Dayton OH 45424
GEO:39.8210386;-84.1440675
END:VEVENT
END:VCALENDAR