BEGIN:VCALENDAR
VERSION:2.0
PRODID:-//Tukios.com/
BEGIN:VEVENT
UID:7296a2c7-ed43-4aeb-8906-b675ece1bf2b@www.newcomerdayton.com
DTSTAMP:20260421T203536Z
DTSTART:20260427T160000Z
DTEND:20260427T170000Z
SUMMARY:Graveside Service
DESCRIPTION:
URL:https://www.newcomerdayton.com/obituaries/sylvia-mills
LOCATION: 3939 Upper Bellbrook Road  Bellbrook OH 45305
GEO:39.644013;-84.0686055
END:VEVENT
END:VCALENDAR