BEGIN:VCALENDAR
VERSION:2.0
PRODID:-//Tukios.com/
BEGIN:VEVENT
UID:bc85f88f-8e79-4b84-babb-b60ff24ca7a4@www.newcomerdayton.com
DTSTAMP:20260420T172639Z
DTSTART:20260422T160000Z
DTEND:20260422T170000Z
SUMMARY:Visitation
DESCRIPTION:
URL:https://www.newcomerdayton.com/obituaries/ruby-pigman
LOCATION: 3940 Kettering Blvd  Kettering OH 45439
GEO:39.6964951;-84.2130684
END:VEVENT
END:VCALENDAR