BEGIN:VCALENDAR
VERSION:2.0
PRODID:-//Tukios.com/
BEGIN:VEVENT
UID:176a425b-9429-440c-af2c-2d8dd65be1c9@www.newcomerdayton.com
DTSTAMP:20260420T235028Z
DTSTART:20260508
SUMMARY:Burial
DESCRIPTION:
URL:https://www.newcomerdayton.com/obituaries/ronald-lakatos
LOCATION: 4600 Mad River Road  Dayton OH 45429
GEO:39.6795803;-84.1704264
END:VEVENT
END:VCALENDAR