BEGIN:VCALENDAR
VERSION:2.0
PRODID:-//Tukios.com/
BEGIN:VEVENT
UID:cecad58e-8738-40fd-aaef-caa13cc0bfe0@www.newcomerdayton.com
DTSTAMP:20260420T235017Z
DTSTART:20260508T170000Z
DTEND:20260508T180000Z
SUMMARY:Funeral Service
DESCRIPTION:
URL:https://www.newcomerdayton.com/obituaries/ronald-lakatos
LOCATION: 3940 Kettering Blvd  Kettering OH 45439
GEO:39.6964951;-84.2130684
END:VEVENT
END:VCALENDAR