BEGIN:VCALENDAR
VERSION:2.0
PRODID:-//Tukios.com/
BEGIN:VEVENT
UID:e1617dd9-f710-46b0-8f2e-7831f9c96d52@www.newcomerdayton.com
DTSTAMP:20260420T235844Z
DTSTART:20260508T160000Z
DTEND:20260508T170000Z
SUMMARY:Visitation
DESCRIPTION:
URL:https://www.newcomerdayton.com/obituaries/ronald-lakatos
LOCATION: 3940 Kettering Blvd  Kettering OH 45439
GEO:39.6964951;-84.2130684
END:VEVENT
END:VCALENDAR