BEGIN:VCALENDAR
VERSION:2.0
PRODID:-//Tukios.com/
BEGIN:VEVENT
UID:854ec95f-ef9c-4ad2-ace9-033185957780@www.newcomerdayton.com
DTSTAMP:20260422T234959Z
DTSTART:20260424T140000Z
DTEND:20260424T150000Z
SUMMARY:Visitation
DESCRIPTION:
URL:https://www.newcomerdayton.com/obituaries/ronald-kuzma
LOCATION:Our Lady of the Immaculate Conception Church 2300 S Smithville 
	Rd  Dayton OH 45420
GEO:39.7331841;-84.1399751
END:VEVENT
END:VCALENDAR