BEGIN:VCALENDAR
VERSION:2.0
PRODID:-//Tukios.com/
BEGIN:VEVENT
UID:573e2c90-bb21-49df-86b8-ff2f3f24b036@www.newcomerdayton.com
DTSTAMP:20260419T201149Z
DTSTART:20260425T180000Z
DTEND:20260425T190000Z
SUMMARY:Funeral Service
DESCRIPTION:
URL:https://www.newcomerdayton.com/obituaries/robert-lee-frazier
LOCATION: 4104 Needmore Rd  Dayton OH 45424
GEO:39.8210386;-84.1440675
END:VEVENT
END:VCALENDAR