BEGIN:VCALENDAR
VERSION:2.0
PRODID:-//Tukios.com/
BEGIN:VEVENT
UID:dd772792-3515-4c28-8fd0-6c805c8abd5a@www.newcomerdayton.com
DTSTAMP:20260423T010936Z
DTSTART:20260502T150000Z
DTEND:20260502T160000Z
SUMMARY:Memorial Service
DESCRIPTION:
URL:https://www.newcomerdayton.com/obituaries/robert-dale-smith
LOCATION:Piqua Apostolic Temple 830 Covington Ave  Piqua OH 45356
GEO:40.1456365;-84.2543536
END:VEVENT
END:VCALENDAR