BEGIN:VCALENDAR
VERSION:2.0
PRODID:-//Tukios.com/
BEGIN:VEVENT
UID:7c77ef7f-f34b-420c-a72f-30175a0b731f@www.newcomerdayton.com
DTSTAMP:20260422T221400Z
DTSTART:20260427T230000Z
DTEND:20260428T000000Z
SUMMARY:Celebration of Life
DESCRIPTION:
URL:https://www.newcomerdayton.com/obituaries/robert-bob-hack
LOCATION: 3940 Kettering Blvd  Kettering OH 45439
GEO:39.6964951;-84.2130684
END:VEVENT
END:VCALENDAR