BEGIN:VCALENDAR
VERSION:2.0
PRODID:-//Tukios.com/
BEGIN:VEVENT
UID:167436c0-438b-4a49-af5e-889d6fe57d09@www.newcomerdayton.com
DTSTAMP:20260422T224226Z
DTSTART:20260428T190000Z
DTEND:20260428T210000Z
SUMMARY:Visitation
DESCRIPTION:
URL:https://www.newcomerdayton.com/obituaries/regina-white
LOCATION: 4104 Needmore Rd  Dayton OH 45424
GEO:39.8210386;-84.1440675
END:VEVENT
END:VCALENDAR