BEGIN:VCALENDAR
VERSION:2.0
PRODID:-//Tukios.com/
BEGIN:VEVENT
UID:e5414f24-61d1-4d76-b38d-9d627d9321ee@www.newcomerdayton.com
DTSTAMP:20260423T180143Z
DTSTART:20260509T170000Z
DTEND:20260509T190000Z
SUMMARY:Visitation
DESCRIPTION:
URL:https://www.newcomerdayton.com/obituaries/pearlia-wilkey
LOCATION: 3940 Kettering Blvd  Kettering OH 45439
GEO:39.6964951;-84.2130684
END:VEVENT
END:VCALENDAR