BEGIN:VCALENDAR
VERSION:2.0
PRODID:-//Tukios.com/
BEGIN:VEVENT
UID:ef8bc9a1-ac10-46cf-9264-f0af74fcb024@www.newcomerdayton.com
DTSTAMP:20260420T093913Z
DTSTART:20260423
SUMMARY:Burial
DESCRIPTION:
URL:https://www.newcomerdayton.com/obituaries/nancy-gudorf
LOCATION:Glen Haven Memorial Gardens 8200 W National Rd  New Carlisle OH 
	45344
GEO:39.9167325;-83.967025
END:VEVENT
END:VCALENDAR