BEGIN:VCALENDAR
VERSION:2.0
PRODID:-//Tukios.com/
BEGIN:VEVENT
UID:da5906c3-efe8-49f8-9e45-02f5630b265d@www.newcomerdayton.com
DTSTAMP:20260422T185029Z
DTSTART:20260429
SUMMARY:Burial
DESCRIPTION:following the service
URL:https://www.newcomerdayton.com/obituaries/nancy-davidson
LOCATION:  Woodland Avenue  Dayton OH 45409
GEO:39.7430791;-84.1806116
END:VEVENT
END:VCALENDAR