BEGIN:VCALENDAR
VERSION:2.0
PRODID:-//Tukios.com/
BEGIN:VEVENT
UID:a3763c77-ad78-4c29-b6de-a23ab813b712@www.newcomerdayton.com
DTSTAMP:20260422T184907Z
DTSTART:20260429T173000Z
DTEND:20260429T183000Z
SUMMARY:Funeral Service
DESCRIPTION:
URL:https://www.newcomerdayton.com/obituaries/nancy-davidson
LOCATION: 4104 Needmore Rd  Dayton OH 45424
GEO:39.8210386;-84.1440675
END:VEVENT
END:VCALENDAR