BEGIN:VCALENDAR
VERSION:2.0
PRODID:-//Tukios.com/
BEGIN:VEVENT
UID:d6ae3ce4-2a96-401e-85d8-bc1a0ff2418a@www.newcomerdayton.com
DTSTAMP:20260422T184811Z
DTSTART:20260429T163000Z
DTEND:20260429T173000Z
SUMMARY:Visitation
DESCRIPTION:
URL:https://www.newcomerdayton.com/obituaries/nancy-davidson
LOCATION: 4104 Needmore Rd  Dayton OH 45424
GEO:39.8210386;-84.1440675
END:VEVENT
END:VCALENDAR