BEGIN:VCALENDAR
VERSION:2.0
PRODID:-//Tukios.com/
BEGIN:VEVENT
UID:87a96b63-94a1-487d-aacb-c64b2aefdeba@www.newcomerdayton.com
DTSTAMP:20260421T021304Z
DTSTART:20260501T173000Z
DTEND:20260501T183000Z
SUMMARY:Funeral Service
DESCRIPTION:
URL:https://www.newcomerdayton.com/obituaries/merrin-frost
LOCATION: 4104 Needmore Rd  Dayton OH 45424
GEO:39.8210386;-84.1440675
END:VEVENT
END:VCALENDAR