BEGIN:VCALENDAR
VERSION:2.0
PRODID:-//Tukios.com/
BEGIN:VEVENT
UID:cbd1f919-246b-4326-b8bb-5985d5288e0a@www.newcomerdayton.com
DTSTAMP:20260421T021303Z
DTSTART:20260501T163000Z
DTEND:20260501T173000Z
SUMMARY:Visitation
DESCRIPTION:
URL:https://www.newcomerdayton.com/obituaries/merrin-frost
LOCATION: 4104 Needmore Rd  Dayton OH 45424
GEO:39.8210386;-84.1440675
END:VEVENT
END:VCALENDAR