BEGIN:VCALENDAR
VERSION:2.0
PRODID:-//Tukios.com/
BEGIN:VEVENT
UID:f39481c9-0c1d-4d99-a27a-59efe188c828@www.newcomerdayton.com
DTSTAMP:20260419T200304Z
DTSTART:20260425T133000Z
DTEND:20260425T143000Z
SUMMARY:Visitation
DESCRIPTION:
URL:https://www.newcomerdayton.com/obituaries/katherine-short
LOCATION: 4104 Needmore Rd  Dayton OH 45424
GEO:39.8210386;-84.1440675
END:VEVENT
END:VCALENDAR