BEGIN:VCALENDAR
VERSION:2.0
PRODID:-//Tukios.com/
BEGIN:VEVENT
UID:d657a972-2c73-4770-8b5c-d03ddf9696b5@www.newcomerdayton.com
DTSTAMP:20260424T194729Z
DTSTART:20260509T153000Z
DTEND:20260509T163000Z
SUMMARY:Celebration of Life
DESCRIPTION:
URL:https://www.newcomerdayton.com/obituaries/john-pennix-ii
LOCATION: 926 East National Road   Vandalia OH 45377
GEO:39.891088;-84.1796376
END:VEVENT
END:VCALENDAR