BEGIN:VCALENDAR
VERSION:2.0
PRODID:-//Tukios.com/
BEGIN:VEVENT
UID:26e69728-73ec-4a56-80f7-d70b7c4246f6@www.newcomerdayton.com
DTSTAMP:20260420T231742Z
DTSTART:20260427T150000Z
DTEND:20260427T160000Z
SUMMARY:Funeral Service
DESCRIPTION:
URL:https://www.newcomerdayton.com/obituaries/john-napier-sr
LOCATION: 3380 Dayton Xenia Rd  Beavercreek OH 45432
GEO:39.7305345;-84.0604885
END:VEVENT
END:VCALENDAR