BEGIN:VCALENDAR
VERSION:2.0
PRODID:-//Tukios.com/
BEGIN:VEVENT
UID:5e944540-c15c-4d9f-80c5-480d775bd60c@www.newcomerdayton.com
DTSTAMP:20260424T015036Z
DTSTART:20260429T143000Z
DTEND:20260429T153000Z
SUMMARY:Funeral Service
DESCRIPTION:
URL:https://www.newcomerdayton.com/obituaries/john-a-butler
LOCATION: 4104 Needmore Rd  Dayton OH 45424
GEO:39.8210386;-84.1440675
END:VEVENT
END:VCALENDAR