BEGIN:VCALENDAR
VERSION:2.0
PRODID:-//Tukios.com/
BEGIN:VEVENT
UID:d68d7f42-8afd-4db9-b5db-0db88c235bca@www.newcomerdayton.com
DTSTAMP:20260422T040538Z
DTSTART:20260427T220000Z
DTEND:20260427T230000Z
SUMMARY:Funeral Service
DESCRIPTION:
URL:https://www.newcomerdayton.com/obituaries/jeanie-mosley-gray
LOCATION: 4104 Needmore Rd  Dayton OH 45424
GEO:39.8210386;-84.1440675
END:VEVENT
END:VCALENDAR