BEGIN:VCALENDAR
VERSION:2.0
PRODID:-//Tukios.com/
BEGIN:VEVENT
UID:67933829-a75a-4d01-9c8c-124b4071fbc3@www.newcomerdayton.com
DTSTAMP:20260422T041127Z
DTSTART:20260427T210000Z
DTEND:20260427T220000Z
SUMMARY:Visitation
DESCRIPTION:
URL:https://www.newcomerdayton.com/obituaries/jeanie-mosley-gray
LOCATION: 4104 Needmore Rd  Dayton OH 45424
GEO:39.8210386;-84.1440675
END:VEVENT
END:VCALENDAR