BEGIN:VCALENDAR
VERSION:2.0
PRODID:-//Tukios.com/
BEGIN:VEVENT
UID:eca07007-1367-42ae-8717-60a35bc220b4@www.newcomerdayton.com
DTSTAMP:20260421T220016Z
DTSTART:20260430T170000Z
DTEND:20260430T180000Z
SUMMARY:Funeral Service
DESCRIPTION:
URL:https://www.newcomerdayton.com/obituaries/james-bolden
LOCATION: 3940 Kettering Blvd  Kettering OH 45439
GEO:39.6964951;-84.2130684
END:VEVENT
END:VCALENDAR