BEGIN:VCALENDAR
VERSION:2.0
PRODID:-//Tukios.com/
BEGIN:VEVENT
UID:560e7a1c-86f8-4d47-9d8d-2356a94ff280@www.newcomerdayton.com
DTSTAMP:20260422T234348Z
DTSTART:20260428T170000Z
DTEND:20260428T180000Z
SUMMARY:Funeral Service
DESCRIPTION:
URL:https://www.newcomerdayton.com/obituaries/harold-workman-jr
LOCATION: 820 Miamisburg Centerville Rd  Dayton OH 45459
GEO:39.6263405;-84.1824781
END:VEVENT
END:VCALENDAR