BEGIN:VCALENDAR
VERSION:2.0
PRODID:-//Tukios.com/
BEGIN:VEVENT
UID:e6661ea8-d418-4e2e-827d-c710a91dae7c@www.newcomerdayton.com
DTSTAMP:20260422T234836Z
DTSTART:20260428T150000Z
DTEND:20260428T170000Z
SUMMARY:Visitation
DESCRIPTION:
URL:https://www.newcomerdayton.com/obituaries/harold-workman-jr
LOCATION: 820 Miamisburg Centerville Rd  Dayton OH 45459
GEO:39.6263405;-84.1824781
END:VEVENT
END:VCALENDAR