BEGIN:VCALENDAR
VERSION:2.0
PRODID:-//Tukios.com/
BEGIN:VEVENT
UID:13ad8655-e35d-4574-8576-c3ab8a49004e@www.newcomerdayton.com
DTSTAMP:20260422T233724Z
DTSTART:20260428
SUMMARY:Burial
DESCRIPTION:
URL:https://www.newcomerdayton.com/obituaries/harold-workman-jr
LOCATION:  Woodland Avenue  Dayton OH 45409
GEO:39.7430791;-84.1806116
END:VEVENT
END:VCALENDAR