BEGIN:VCALENDAR
VERSION:2.0
PRODID:-//Tukios.com/
BEGIN:VEVENT
UID:c4bea98f-ff70-41fc-8e6c-b7b5182ecb06@www.newcomerdayton.com
DTSTAMP:20260422T041532Z
DTSTART:20260430T220000Z
DTEND:20260430T230000Z
SUMMARY:Celebration of Life
DESCRIPTION:
URL:https://www.newcomerdayton.com/obituaries/harley-vogel
LOCATION:Walnut Grove Country Club 5050 Linden Ave  Dayton OH 45432
GEO:39.7326739;-84.099966
END:VEVENT
END:VCALENDAR