BEGIN:VCALENDAR
VERSION:2.0
PRODID:-//Tukios.com/
BEGIN:VEVENT
UID:9fefd0c2-a0c5-40cd-86d6-c2023fce6225@www.newcomerdayton.com
DTSTAMP:20260422T041456Z
DTSTART:20260430T210000Z
DTEND:20260430T220000Z
SUMMARY:Funeral Service
DESCRIPTION:
URL:https://www.newcomerdayton.com/obituaries/harley-vogel
LOCATION:   Louisville KY 
GEO:38.141177;-85.776881
END:VEVENT
END:VCALENDAR