BEGIN:VCALENDAR
VERSION:2.0
PRODID:-//Tukios.com/
BEGIN:VEVENT
UID:513c72b9-179d-42af-a70d-4250a800d3e6@www.newcomerdayton.com
DTSTAMP:20260422T040539Z
DTSTART:20260430T200000Z
DTEND:20260430T210000Z
SUMMARY:Visitation
DESCRIPTION:
URL:https://www.newcomerdayton.com/obituaries/harley-vogel
LOCATION: 3380 Dayton Xenia Rd  Beavercreek OH 45432
GEO:39.7305345;-84.0604885
END:VEVENT
END:VCALENDAR