BEGIN:VCALENDAR
VERSION:2.0
PRODID:-//Tukios.com/
BEGIN:VEVENT
UID:9a1bcb9e-4809-480e-82d3-5ab846e2fc73@www.newcomerdayton.com
DTSTAMP:20260422T175148Z
DTSTART:20260425T180000Z
DTEND:20260425T190000Z
SUMMARY:Celebration of Life
DESCRIPTION:
URL:https://www.newcomerdayton.com/obituaries/david-isenbarger
LOCATION:Southern Ohio Brewing 818 Factory Rd  Dayton OH 45434
GEO:39.7118051;-84.028019
END:VEVENT
END:VCALENDAR