BEGIN:VCALENDAR
VERSION:2.0
PRODID:-//Tukios.com/
BEGIN:VEVENT
UID:cac92c0f-c09f-4259-b996-0379cfe20175@www.newcomerdayton.com
DTSTAMP:20260422T221513Z
DTSTART:20260501T200000Z
DTEND:20260501T210000Z
SUMMARY:Funeral Service
DESCRIPTION:
URL:https://www.newcomerdayton.com/obituaries/colleen-curran
LOCATION: 3380 Dayton Xenia Rd  Beavercreek OH 45432
GEO:39.7305345;-84.0604885
END:VEVENT
END:VCALENDAR