BEGIN:VCALENDAR
VERSION:2.0
PRODID:-//Tukios.com/
BEGIN:VEVENT
UID:2d438830-7f6f-43f8-9385-5efa72824d03@www.newcomerdayton.com
DTSTAMP:20260422T220843Z
DTSTART:20260501T183000Z
DTEND:20260501T200000Z
SUMMARY:Visitation
DESCRIPTION:
URL:https://www.newcomerdayton.com/obituaries/colleen-curran
LOCATION: 3380 Dayton Xenia Rd  Beavercreek OH 45432
GEO:39.7305345;-84.0604885
END:VEVENT
END:VCALENDAR