BEGIN:VCALENDAR
VERSION:2.0
PRODID:-//Tukios.com/
BEGIN:VEVENT
UID:f364d507-d61b-4925-a0a7-b16e35fe2cb7@www.newcomerdayton.com
DTSTAMP:20260421T232136Z
DTSTART:20260427T140000Z
DTEND:20260427T150000Z
SUMMARY:Graveside Service
DESCRIPTION:
URL:https://www.newcomerdayton.com/obituaries/chris-heeter-sr
LOCATION: 9580 OH-202  Bethel Township OH 45371
GEO:39.8910103;-84.136299
END:VEVENT
END:VCALENDAR