BEGIN:VCALENDAR
VERSION:2.0
PRODID:-//Tukios.com/
BEGIN:VEVENT
UID:12a9d08a-7a89-4024-9e0c-5f8fa26403c0@www.newcomerdayton.com
DTSTAMP:20260421T232004Z
DTSTART:20260426T190000Z
DTEND:20260426T200000Z
SUMMARY:Funeral Service
DESCRIPTION:
URL:https://www.newcomerdayton.com/obituaries/chris-heeter-sr
LOCATION: 626 W National Rd  Vandalia OH 45377
GEO:39.8892974;-84.2094027
END:VEVENT
END:VCALENDAR