BEGIN:VCALENDAR
VERSION:2.0
PRODID:-//Tukios.com/
BEGIN:VEVENT
UID:1ff7d64c-2b7c-46f4-b2bc-95716bd7acab@www.newcomerdayton.com
DTSTAMP:20260421T232004Z
DTSTART:20260426T180000Z
DTEND:20260426T190000Z
SUMMARY:Visitation
DESCRIPTION:
URL:https://www.newcomerdayton.com/obituaries/chris-heeter-sr
LOCATION:New Point Church 626 W National Rd  Vandalia OH 45377
GEO:39.8892974;-84.2094027
END:VEVENT
END:VCALENDAR