BEGIN:VCALENDAR
VERSION:2.0
PRODID:-//Tukios.com/
BEGIN:VEVENT
UID:892f2a15-6938-4e07-8d72-69f69eb1e91e@www.newcomerdayton.com
DTSTAMP:20260421T232136Z
DTSTART:20260502T190000Z
DTEND:20260502T200000Z
SUMMARY:Memorial Service
DESCRIPTION:
URL:https://www.newcomerdayton.com/obituaries/carlos-hattab
LOCATION: 3380 Dayton Xenia Rd  Beavercreek OH 45432
GEO:39.7305345;-84.0604885
END:VEVENT
END:VCALENDAR