BEGIN:VCALENDAR
VERSION:2.0
PRODID:-//Tukios.com/
BEGIN:VEVENT
UID:01e77f36-3be6-4f67-982e-67a9343fbc7f@www.newcomerdayton.com
DTSTAMP:20260423T020316Z
DTSTART:20260830T173000Z
DTEND:20260830T183000Z
SUMMARY:Memorial Gathering
DESCRIPTION:
URL:https://www.newcomerdayton.com/obituaries/alphonso-zackery
LOCATION:Majesty Banquet Hall 5511 Salem Avenue  Trotwood OH 45426
GEO:39.8241903;-84.2900478
END:VEVENT
END:VCALENDAR